BEGIN:VCALENDAR
VERSION:2.0
PRODID:-//ChamberMaster//Event Calendar 2.0//EN
METHOD:PUBLISH
X-PUBLISHED-TTL:P3D
REFRESH-INTERVAL:P3D
CALSCALE:GREGORIAN
BEGIN:VEVENT
DTSTART:20140416T163000Z
DTEND:20140416T180000Z
X-MICROSOFT-CDO-ALLDAYEVENT:FALSE
SUMMARY:3rd Wednesday Lunch sponsored by TAG
DESCRIPTION:This month's 3rd Wednesday Lunch will be hosted by AHCC's Technology Advisory Group.  TAG invites you to learn a few tips and tricks to help you manage your email. TAG will give recommendations on organizing your inbox\, using secure passwords\, and finding the right email service for your business. Come have lunch with us and learn a bit about email.
X-ALT-DESC;FMTTYPE=text/html:<div style="color: gray\;"><span style="color:#000000\;">This month&#39\;s 3rd Wednesday Lunch will be hosted by AHCC&#39\;s Technology Advisory Group.&nbsp\; TAG invites you to learn a few tips and tricks to help you manage your email. TAG will give recommendations on organizing your inbox\, using secure passwords\, and finding the right email service for your business. Come have lunch with us and learn a bit about email. </span><br />\n&nbsp\;</div>\n
LOCATION:Rackhouse 222 E Algonquin Arlington Heights\, IL
UID:e.858.2848
SEQUENCE:3
DTSTAMP:20260425T192034Z
URL:http://devarlington.chambermaster.com/events/details/3rd-wednesday-lunch-sponsored-by-tag-04-16-2014-2848
END:VEVENT

END:VCALENDAR
